BEGIN:VCALENDAR
VERSION:2.0
PRODID:-//Oracle of Los Angeles - ECPv6.15.20//NONSGML v1.0//EN
CALSCALE:GREGORIAN
METHOD:PUBLISH
X-ORIGINAL-URL:https://oracleoflosangeles.com
X-WR-CALDESC:Events for Oracle of Los Angeles
REFRESH-INTERVAL;VALUE=DURATION:PT1H
X-Robots-Tag:noindex
X-PUBLISHED-TTL:PT1H
BEGIN:VTIMEZONE
TZID:Europe/London
BEGIN:DAYLIGHT
TZOFFSETFROM:+0000
TZOFFSETTO:+0100
TZNAME:BST
DTSTART:20240331T010000
END:DAYLIGHT
BEGIN:STANDARD
TZOFFSETFROM:+0100
TZOFFSETTO:+0000
TZNAME:GMT
DTSTART:20241027T010000
END:STANDARD
BEGIN:DAYLIGHT
TZOFFSETFROM:+0000
TZOFFSETTO:+0100
TZNAME:BST
DTSTART:20250330T010000
END:DAYLIGHT
BEGIN:STANDARD
TZOFFSETFROM:+0100
TZOFFSETTO:+0000
TZNAME:GMT
DTSTART:20251026T010000
END:STANDARD
BEGIN:DAYLIGHT
TZOFFSETFROM:+0000
TZOFFSETTO:+0100
TZNAME:BST
DTSTART:20260329T010000
END:DAYLIGHT
BEGIN:STANDARD
TZOFFSETFROM:+0100
TZOFFSETTO:+0000
TZNAME:GMT
DTSTART:20261025T010000
END:STANDARD
END:VTIMEZONE
BEGIN:VTIMEZONE
TZID:America/Los_Angeles
BEGIN:DAYLIGHT
TZOFFSETFROM:-0800
TZOFFSETTO:-0700
TZNAME:PDT
DTSTART:20190310T100000
END:DAYLIGHT
BEGIN:STANDARD
TZOFFSETFROM:-0700
TZOFFSETTO:-0800
TZNAME:PST
DTSTART:20191103T090000
END:STANDARD
BEGIN:DAYLIGHT
TZOFFSETFROM:-0800
TZOFFSETTO:-0700
TZNAME:PDT
DTSTART:20200308T100000
END:DAYLIGHT
BEGIN:STANDARD
TZOFFSETFROM:-0700
TZOFFSETTO:-0800
TZNAME:PST
DTSTART:20201101T090000
END:STANDARD
BEGIN:DAYLIGHT
TZOFFSETFROM:-0800
TZOFFSETTO:-0700
TZNAME:PDT
DTSTART:20210314T100000
END:DAYLIGHT
BEGIN:STANDARD
TZOFFSETFROM:-0700
TZOFFSETTO:-0800
TZNAME:PST
DTSTART:20211107T090000
END:STANDARD
BEGIN:DAYLIGHT
TZOFFSETFROM:-0800
TZOFFSETTO:-0700
TZNAME:PDT
DTSTART:20220313T100000
END:DAYLIGHT
BEGIN:STANDARD
TZOFFSETFROM:-0700
TZOFFSETTO:-0800
TZNAME:PST
DTSTART:20221106T090000
END:STANDARD
END:VTIMEZONE
BEGIN:VEVENT
DTSTART;TZID=Europe/London:20250726T100000
DTEND;TZID=Europe/London:20250726T170000
DTSTAMP:20260424T154025
CREATED:20250120T204448Z
LAST-MODIFIED:20250124T033134Z
UID:4197-1753524000-1753549200@oracleoflosangeles.com
SUMMARY:Sonnets for the Muse: Working with Ritual & Poetry to Activate Creative Potential (Edinburgh\, Scotland\, UK)
DESCRIPTION:Sonnets are ‘little songs’. In this workshop you will write a sonnet as a devotional object to your muse. Together we will energize\, celebrate\, honor\, and invoke their creative power.  \nIn Sonnets for the Muse\, a new\, day-long workshop in Scotland (and Amanda’s first offering in the UK!)\, Rebecca Sharp & Amanda Yates Garcia will demonstrate how to fashion the traditional form of the sonnet into radical embodied invocations.  \nOur workshop will take place at the historic Arthur Conan Doyle Centre\, Edinburgh\, UK. We will collaborate with the local ecology and other spirits of place. Our work will investigate cultural\, elemental\, mythological and magical relationships as they interact in the personal and collective realms.   \nCultivating a sense of belonging\, and dialoguing with the ecological and imaginal worlds\, together we will build the tools necessary for these times of profound and urgent change.  \nIn this Sonnets for the Muse workshop you will: \n\npractice an historical poetic form\, the sonnet (no experience necessary\, beginners welcome!) \ngenerate new strategies to work with these enduring vessels of the imagination \ncollaborate\, heal and celebrate the past that still lives inside of you; and use it to seed vibrant\, Venusian futures \ndispel creative blocks \nreclaim joy in your artistic practice \naccess your authentic voice  \n\nParticipants will leave the workshop with their own original sonnet\, and a finely crafted bespoke ritual designed to invoke clarity\, courage\, and creative fire.  \nJoin us to energetically declutter\, access the voice/s of inspiration and create pathways for future work.  \nAcross the full day (with lunch break)\, Amanda and Rebecca will guide a series of connected activities\, including:  \n\nOpening and Closing ritual practice \nmeditation and some light movement for embodied magical practice \ncreative/cultural grounding around historical practices of the sonnet \ntraditional strategies for invoking Muses & Guides \nexercises to identify and engage energies to work with in the session (you may come with some in mind!) \nsupported writing time to create and refine your work \nopportunity to share your work in a supportive environment \n\nThis workshop is a unique collaboration between the two practitioners\, and a unique opportunity to connect with Amanda in-person in the UK.   \nCome raise your voice and energy to celebrate the Muse. She will create beauty in your life that resonates deep into the future.  \nAny questions\, please email: info@rebeccajoysharp.com  \nReserve Your Spot:\nPurchase your ticket before March 20th and receive 20% off the full ticket price! \n$260.00 / £213 full price* *Early Bird (20%) offer @ $208 / £170 until Ostara / Spring Equinox 20th March  \nBuy Your Ticket Here\nOnce you book your ticket\,** you’ll receive a confirmation email and additional information that will help you prepare. \n**Note: No refunds possible after April 29th\, though tickets may be transferred (eg. to a friend) if necessary. Please inform us of the change.
URL:https://oracleoflosangeles.com/event/sonnets-for-the-muse-working-with-ritual-poetry-to-activate-creative-potential-edinburgh-scotland-uk/
LOCATION:Arthur Conan Doyle Center\, 25 Palmerston Place\, Edinburgh\, Scotland\, EH12 5AP\, United Kingdom
CATEGORIES:Upcoming Events
END:VEVENT
BEGIN:VEVENT
DTSTART;TZID=America/Los_Angeles:20210426T180000
DTEND;TZID=America/Los_Angeles:20210426T193000
DTSTAMP:20260424T154025
CREATED:20210418T235553Z
LAST-MODIFIED:20210420T193302Z
UID:4139-1619460000-1619465400@oracleoflosangeles.com
SUMMARY:Full Moon in Scorpio Ritual
DESCRIPTION:This Scorpio Full Moon in Taurus Season is known as the Pink Moon.\nScorpio rules the 8th house\, the home of intimacy\, secrets\, healing and the underworld. Scorpio is the healer. Full Moon in Scorpio calls us to see what we’ve ignored or hidden\, which makes healing possible. Ultimately this moon is about finding the peace and abundance of Taurus by embracing our truths. \nTo prepare for this ceremony\, please assemble for your altar:\n— a cup of water and a stone\n— a candle and lighter\n— incense or burning herbs (frankincense\, vanilla\, myrrh\, benzoin\, and lavender are all good bets)\n— a journal and writing implement\n— tarot cards if you have them\n— mugwort for burning if possible \nPlease feel free to invite your friends! \nThis ceremony is by donation. Suggested donation is $25\, but no one turned away for lack of funds. Your donation makes my work possible. Thank you for your fair exchange of energy! \nDonate:\nVenmo: @Amanda-YatesGarcia \nor \nPaypal: amandayatesgarcia@gmail.com\n(if you donate via Paypal please do it “Friends and Family” or 5% goes to Paypal!) \n  \nTo Register for the Ritual Please Click This Link\nP.S.\nIf for whatever reason you can’t log on to Zoom\, the ceremony will also be available via Instagram live. Recording of the ceremony will be available to people who register via Zoom.
URL:https://oracleoflosangeles.com/event/full-moon-in-scorpio-ritual/
LOCATION:Scotland
CATEGORIES:Upcoming Events
ATTACH;FMTTYPE=image/jpeg:https://oracleoflosangeles.com/wp-content/uploads/2021/04/MOON-PROMO3.jpg
END:VEVENT
BEGIN:VEVENT
DTSTART;VALUE=DATE:20200813
DTEND;VALUE=DATE:20200814
DTSTAMP:20260424T154025
CREATED:20200831T192824Z
LAST-MODIFIED:20200831T193110Z
UID:4090-1597276800-1597363199@oracleoflosangeles.com
SUMMARY:Candle Magic Workshop
DESCRIPTION:By popular request\, our next Between the Worlds workshop is Candle Magic. Candles make a moment sacred\, that’s why they’re used in holy places. They’re romantic and empowering. Once you know the basics you can use them for anything. Whether or not you “believe” in magic\, candle rituals are a great way to focus your intention\, shift your mood and connect to your sacred practices. Candles are easy to use\, widely available\, and when you light them the atmosphere immediately changes. It’s satisfying to carve a candle\, anoint it\, light it and see it transform with your intention. \nIn this workshop you’ll use your candles to put a light in your window and let the world know your spirit is home and ready for magic. \nThis downloadable workshop includes: \n\n\na step-by-step guide to creating a candle ritual for any occasion\, including a list of dos and don’ts to make your work more effective \n\n\na guide of correspondences to use with your spells including symbols\, herbs\, oils\, colors\, and powders \n\n\na meditation you can use to charge any magical working with your intention \n\n\na short gesture series you can use to charge your candle magick \n\n\na simple prayer to say over your candles to bless your work \n\n\na one hour live group call to help you and answer your questions \n\n\na Candle Magic song to help get you in the mood for magic\, plop on a playlist\, etc \n\n\n4 x candle rituals for banishing and protection; vigils and grief; calling in love; clearing your path and focusing your attention \n\n\n  \nDOWNLOAD THE CANDLE MAGIC WORKSHOP OR SUBSCRIBE \n  \nCost $48. Coven members get this workshop for free as part of their subscription (see subscription page for more details). Download of the course materials will be sent to you on Thursday the 13th of August. The Live Call is on Sunday the 16th at 11am PST\, but if you can’t make it\, no worries\, you’ll get a video sent to your email you can watch anytime. Can’t wait for you to join us!
URL:https://oracleoflosangeles.com/event/candle-magic-workshop/
LOCATION:Scotland
CATEGORIES:Upcoming Events
ATTACH;FMTTYPE=image/png:https://oracleoflosangeles.com/wp-content/uploads/2020/08/Candle-Magic.png
END:VEVENT
BEGIN:VEVENT
DTSTART;VALUE=DATE:20200109
DTEND;VALUE=DATE:20200110
DTSTAMP:20260424T154025
CREATED:20200107T012737Z
LAST-MODIFIED:20200107T014858Z
UID:4008-1578528000-1578614399@oracleoflosangeles.com
SUMMARY:You're invited: 'Strange Magic' becomes BETWEEN THE WORLDS
DESCRIPTION:Strange Magic is Changing –\nWe are becoming BETWEEN THE WORLDS…\nIf you’ve been listening to my podcast\, Strange Magic\, you might be aware that we are undergoing some changes. \nAs we finish the Major Arcana\, Sarah Gottesdiener is leaving to pursue other projects\, while Carolyn Pennypacker Riggs and I will be continuing the podcast under a new name: BETWEEN THE WORLDS. \nThe new Between the Worlds podcast will still cover tarot\, witchcraft\, and all the things you love\, but we will be adding special guests\, and a forum for our subscribers to communicate with each other. \n  \nIf you are a listener to Strange Magic\, keep your eyes out on your podcast feed for the new Between the Worlds graphic. And stay tuned for our first episode on January 9th\, where we’ll be talking about the cards of the year with a VERY SPECIAL guest.\nAlso\, if you’re a Coven-Level subscriber\, you’ll be getting a workshop download within the first two weeks of the year that you’re going to LOVE! Think power\, growth\, magic\, practical tips\, and some VERY SPECIAL new additions that we’re keeping secret for now. Stay tuned!
URL:https://oracleoflosangeles.com/event/test-event/
LOCATION:Scotland
CATEGORIES:Upcoming Events
ATTACH;FMTTYPE=image/jpeg:https://oracleoflosangeles.com/wp-content/uploads/2020/01/Strange-Magic-1.9.2020.jpg
END:VEVENT
END:VCALENDAR